BEGIN:VCALENDAR
PRODID: -//CFLIB.ORG//iCalUS()//EN
VERSION:2.0
METHOD:REQUEST
BEGIN:VTIMEZONE
BEGIN:STANDARD
DTSTART:20061101T020000
RRULE:FREQ=YEARLY;INTERVAL=1;BYDAY=1SU;BYMONTH=11
TZOFFSETFROM:-0400
TZOFFSETTO:-0500
TZNAME:Standard Time
END:STANDARD
BEGIN:DAYLIGHT
DTSTART:20060301T020000
RRULE:FREQ=YEARLY;INTERVAL=1;BYDAY=2SU;BYMONTH=3
TZOFFSETFROM:-0500
TZOFFSETTO:-0400
TZNAME:Daylight Savings Time
END:DAYLIGHT
END:VTIMEZONE
BEGIN:VEVENT
UID:1551167569084.CFLIB.ORG
ORGANIZER;CN=:MAILTO:
DTSTAMP:20190226T185249
DTSTART;TZID=Eastern Time:20190227T171500
DTEND;TZID=Eastern Time:20190227T180000
SUMMARY:BELLCOURT PROPERTY GROUP - SHENTON PARK - OFI/OPEN HOME - 13 Salter Point Parade, Salter Point, 6152
LOCATION:13 Salter Point Parade, Salter Point, 6152
DESCRIPTION:OFI/OPEN HOME - 13 Salter Point Parade, Salter Point, 6152\n\nWednesday 5:15PM-6:00PM\n\nClick the link for full listing information: http://bellcourtproperty.com.au?/property/3333085
PRIORITY:1
TRANSP:OPAQUE
CLASS:PUBLIC
BEGIN:VALARM
TRIGGER:-PT30M
ACTION:DISPLAY
DESCRIPTION:Reminder
END:VALARM
END:VEVENT
END:VCALENDAR 