BEGIN:VCALENDAR
PRODID: -//CFLIB.ORG//iCalUS()//EN
VERSION:2.0
METHOD:REQUEST
BEGIN:VTIMEZONE
BEGIN:STANDARD
DTSTART:20061101T020000
RRULE:FREQ=YEARLY;INTERVAL=1;BYDAY=1SU;BYMONTH=11
TZOFFSETFROM:-0400
TZOFFSETTO:-0500
TZNAME:Standard Time
END:STANDARD
BEGIN:DAYLIGHT
DTSTART:20060301T020000
RRULE:FREQ=YEARLY;INTERVAL=1;BYDAY=2SU;BYMONTH=3
TZOFFSETFROM:-0500
TZOFFSETTO:-0400
TZNAME:Daylight Savings Time
END:DAYLIGHT
END:VTIMEZONE
BEGIN:VEVENT
UID:1614471297453.CFLIB.ORG
ORGANIZER;CN=:MAILTO:
DTSTAMP:20210228T111457
DTSTART;TZID=Eastern Time:20210224T171500
DTEND;TZID=Eastern Time:20210224T180000
SUMMARY:BELLCOURT PROPERTY GROUP - SHENTON PARK - OFI/OPEN HOME - 19 Morgan Street, SHENTON PARK, 6008
LOCATION:19 Morgan Street, SHENTON PARK, 6008
DESCRIPTION:OFI/OPEN HOME - 19 Morgan Street, SHENTON PARK, 6008\n\nWednesday 5:15PM-6:00PM\n\nClick the link for full listing information: http://bellcourtproperty.com.au?/property/3422257
PRIORITY:1
TRANSP:OPAQUE
CLASS:PUBLIC
BEGIN:VALARM
TRIGGER:-PT30M
ACTION:DISPLAY
DESCRIPTION:Reminder
END:VALARM
END:VEVENT
END:VCALENDAR 