BEGIN:VCALENDAR
PRODID: -//CFLIB.ORG//iCalUS()//EN
VERSION:2.0
METHOD:REQUEST
BEGIN:VTIMEZONE
BEGIN:STANDARD
DTSTART:20061101T020000
RRULE:FREQ=YEARLY;INTERVAL=1;BYDAY=1SU;BYMONTH=11
TZOFFSETFROM:-0400
TZOFFSETTO:-0500
TZNAME:Standard Time
END:STANDARD
BEGIN:DAYLIGHT
DTSTART:20060301T020000
RRULE:FREQ=YEARLY;INTERVAL=1;BYDAY=2SU;BYMONTH=3
TZOFFSETFROM:-0500
TZOFFSETTO:-0400
TZNAME:Daylight Savings Time
END:DAYLIGHT
END:VTIMEZONE
BEGIN:VEVENT
UID:1551345381065.CFLIB.ORG
ORGANIZER;CN=:MAILTO:
DTSTAMP:20190228T201621
DTSTART;TZID=Eastern Time:20190302T130000
DTEND;TZID=Eastern Time:20190302T134000
SUMMARY:BELLCOURT PROPERTY GROUP - SHENTON PARK - OFI/OPEN HOME - 5B Cedus Place, Menora, 6050
LOCATION:5B Cedus Place, Menora, 6050
DESCRIPTION:OFI/OPEN HOME - 5B Cedus Place, Menora, 6050\n\nSaturday 1:00PM-1:40PM\n\nClick the link for full listing information: http://bellcourtproperty.com.au?/property/3333940
PRIORITY:1
TRANSP:OPAQUE
CLASS:PUBLIC
BEGIN:VALARM
TRIGGER:-PT30M
ACTION:DISPLAY
DESCRIPTION:Reminder
END:VALARM
END:VEVENT
END:VCALENDAR 